BEGIN:VCALENDAR
VERSION:2.0
PRODID:gruene-altona.de
METHOD:PUBLISH
BEGIN:VTIMEZONE
TZID:Europe/Berlin
X-LIC-LOCATION:Europe/Berlin
BEGIN:DAYLIGHT
TZOFFSETFROM:+0100
TZOFFSETTO:+0200
TZNAME:CEST
DTSTART:19700329T020000
RRULE:FREQ=YEARLY;INTERVAL=1;BYDAY=-1SU;BYMONTH=3
END:DAYLIGHT
BEGIN:STANDARD
TZOFFSETFROM:+0200
TZOFFSETTO:+0100
TZNAME:CET
DTSTART:19701025T030000
RRULE:FREQ=YEARLY;INTERVAL=1;BYDAY=-1SU;BYMONTH=10
END:STANDARD
END:VTIMEZONE
BEGIN:VEVENT
UID:e46cd0ca13a72dae7caea9443856ed10@gruene-altona.de
URL;VALUE=URI:https://gruene-altona.de/termine/bezirkspolitik-im-wahlkrei
 s-4-bahrenfeld-west-gross-flottbek/
LOCATION:Volkshochschule Zentrum West Waitzstraße 31, 22607 Hamburg
SUMMARY:Bezirkspolitik im Wahlkreis 4 „Bahrenfeld-West/Groß Flottbek
 “
DESCRIPTION;ALTREP="data:text/html,":
CLASS:PUBLIC
DTSTART;TZID=Europe/Berlin:20230601T190000
DTEND;TZID=Europe/Berlin:20230601T200000
DTSTAMP:20260419T155122
END:VEVENT
END:VCALENDAR