BEGIN:VCALENDAR
VERSION:2.0
PRODID:gruene-altona.de
METHOD:PUBLISH
BEGIN:VTIMEZONE
TZID:Europe/Berlin
X-LIC-LOCATION:Europe/Berlin
BEGIN:DAYLIGHT
TZOFFSETFROM:+0100
TZOFFSETTO:+0200
TZNAME:CEST
DTSTART:19700329T020000
RRULE:FREQ=YEARLY;INTERVAL=1;BYDAY=-1SU;BYMONTH=3
END:DAYLIGHT
BEGIN:STANDARD
TZOFFSETFROM:+0200
TZOFFSETTO:+0100
TZNAME:CET
DTSTART:19701025T030000
RRULE:FREQ=YEARLY;INTERVAL=1;BYDAY=-1SU;BYMONTH=10
END:STANDARD
END:VTIMEZONE
BEGIN:VEVENT
UID:79941bcafcc02e313cdbfa47f8a204db@gruene-altona.de
URL;VALUE=URI:https://gruene-altona.de/termine/gruene-fahrradtour-durch-d
 en-bezirk/
LOCATION:Im Rathenaupark
SUMMARY:Grüne Fahrradtour durch den Bezirk
DESCRIPTION;ALTREP="data:text/html,Wir%20fahren%20um%2012.00%20Uhr%20am%2
 0Sonntag%20den%2015.05.2022%20im%20Rathenaupark%20los%20zu%20unserer%20Gr
 %C3%BCnen%20%3Cimg%20class%3D%22em%22%20src%3D%22https%3A%2F%2Fweb.threem
 a.ch%2Femoji%2Fpng32%2F1f33b.png%22%20alt%3D%22%F0%9F%8C%BB%22%20width%3D
 %2220%22%20height%3D%2220%22%20%2F%3E%20Radtour%20durch%20die%20sch%C3%B6
 nen%20Ecken%20im%20Bezirk%20%28auch%20bei%20eventuell%20erh%C3%B6hter%20L
 uftfeuchtigkeit%20%3Cimg%20class%3D%22em%22%20src%3D%22https%3A%2F%2Fweb.
 threema.ch%2Femoji%2Fpng32%2F1f642.png%22%20alt%3D%22%F0%9F%99%82%22%20wi
 dth%3D%2221%22%20height%3D%2221%22%20%2F%3E%29.%0D%0A%0D%0AKurze%20geplan
 te%20Zwischenstopps%20mit%20Hop%20On%20%2F%20Hop%20Off%20M%C3%B6glichkeit
 %3A%0D%0A%3Cul%3E%0D%0A%20%09%3Cli%3ENeuer%20Leuchtturm%20%2F%20Strandweg
 %20%28gegen%2013%3A00%20Uhr%29%3C%2Fli%3E%0D%0A%20%09%3Cli%3EBorn%20Cente
 r%20%28gegen%2014%3A00%20Uhr%29%3C%2Fli%3E%0D%0A%20%09%3Cli%3ELurup%20Cen
 ter%20%28gegen%2014.45%20Uhr%29%3C%2Fli%3E%0D%0A%3C%2Ful%3E%0D%0ADie%20ge
 plante%20Tour%20seht%20ihr%20auf%20der%20Karte%20unten.%20Den%20aktuellen
 %20Standort%20k%C3%B6nnt%20ihr%20dann%20unter%20der%20Nummer%20%2B49%20%2
 80%2917681140089%20erfragen.%0D%0A%0D%0A%3Cimg%20class%3D%22alignnone%20s
 ize-medium%20wp-image-4501%22%20src%3D%22https%3A%2F%2Fgruene-altona.de%2
 Fwp-content%2Fuploads%2Fsites%2F89%2F2022%2F04%2FRadtourkarte-400x300.png
 %22%20alt%3D%22%22%20width%3D%22400%22%20height%3D%22300%22%20%2F%3E%0D%0
 A%0D%0A%26nbsp%3B%0D%0A%0D%0AP.S.%20Denkt%20an%20Getr%C3%A4nke%20%28hei%C
 3%9F%20oder%20kalt%20-%20je%20nach%20Wetter%29%20und%20Snacks%20f%C3%BCr%
 20die%20Pausen%20zwischendurch.%20Wir%20freuen%20uns%20auf%20euch.":Wir f
 ahren um 12.00 Uhr am Sonntag den 15.05.2022 im Rathenaupark los zu unser
 er Grünen  Radtour durch die schönen Ecken im Bezirk (auch bei eventuel
 l erhöhter Luftfeuchtigkeit ).\n\nKurze geplante Zwischenstopps mit Hop 
 On / Hop Off Möglichkeit:\n\n 	Neuer Leuchtturm / Strandweg (gegen 13:00
  Uhr)\n\n 	Born Center (gegen 14:00 Uhr)\n\n 	Lurup Center (gegen 14.45 U
 hr)\n\nDie geplante Tour seht ihr auf der Karte unten. Den aktuellen Stan
 dort könnt ihr dann unter der Nummer +49 (0)17681140089 erfragen.\n\n \
 n\nP.S. Denkt an Getränke (heiß oder kalt - je nach Wetter) und Snacks 
 für die Pausen zwischendurch. Wir freuen uns auf euch.
CLASS:PUBLIC
DTSTART;TZID=Europe/Berlin:20220515T120000
DTEND;TZID=Europe/Berlin:20220515T130000
DTSTAMP:20260421T024041
END:VEVENT
END:VCALENDAR