BEGIN:VCALENDAR
VERSION:2.0
PRODID:gruene-altona.de
METHOD:PUBLISH
BEGIN:VTIMEZONE
TZID:Europe/Berlin
X-LIC-LOCATION:Europe/Berlin
BEGIN:DAYLIGHT
TZOFFSETFROM:+0100
TZOFFSETTO:+0200
TZNAME:CEST
DTSTART:19700329T020000
RRULE:FREQ=YEARLY;INTERVAL=1;BYDAY=-1SU;BYMONTH=3
END:DAYLIGHT
BEGIN:STANDARD
TZOFFSETFROM:+0200
TZOFFSETTO:+0100
TZNAME:CET
DTSTART:19701025T030000
RRULE:FREQ=YEARLY;INTERVAL=1;BYDAY=-1SU;BYMONTH=10
END:STANDARD
END:VTIMEZONE
BEGIN:VEVENT
UID:5d18370355dea7902b0b643e22482c1f@gruene-altona.de
URL;VALUE=URI:https://gruene-altona.de/termine/wahlkreisversammlung-wk-1/
LOCATION:Louise Schroeder Schule, Thedestr. 100, 22767 Hamburg
SUMMARY:Wahlkreisversammlung WK 1 (Altona-Altstadt/Sternschanze)
DESCRIPTION;ALTREP="data:text/html,Am%20heutigen%20Abend%20stellen%20die%
 20GR%C3%9CNEN%20Altona%20ihre%20Liste%20f%C3%BCr%20den%20Wahlkreis%201%20
 auf.%20Wir%20freuen%20uns%20auf%20rege%20Beteiligung%20und%20viele%20Mitg
 lieder%21":Am heutigen Abend stellen die GRÜNEN Altona ihre Liste für d
 en Wahlkreis 1 auf. Wir freuen uns auf rege Beteiligung und viele Mitglie
 der!
CLASS:PUBLIC
DTSTART;TZID=Europe/Berlin:20231212T190000
DTEND;TZID=Europe/Berlin:20231212T220000
DTSTAMP:20260422T120036
END:VEVENT
END:VCALENDAR