BEGIN:VCALENDAR
VERSION:2.0
PRODID:gruene-altona.de
METHOD:PUBLISH
BEGIN:VTIMEZONE
TZID:Europe/Berlin
X-LIC-LOCATION:Europe/Berlin
BEGIN:DAYLIGHT
TZOFFSETFROM:+0100
TZOFFSETTO:+0200
TZNAME:CEST
DTSTART:19700329T020000
RRULE:FREQ=YEARLY;INTERVAL=1;BYDAY=-1SU;BYMONTH=3
END:DAYLIGHT
BEGIN:STANDARD
TZOFFSETFROM:+0200
TZOFFSETTO:+0100
TZNAME:CET
DTSTART:19701025T030000
RRULE:FREQ=YEARLY;INTERVAL=1;BYDAY=-1SU;BYMONTH=10
END:STANDARD
END:VTIMEZONE
BEGIN:VEVENT
UID:8c76a70dda86c5f7ab8881378122f4fa@gruene-altona.de
URL;VALUE=URI:https://gruene-altona.de/termine/wie-laeuft-die-mobilitaets
 wende-in-deinem-viertel/
LOCATION:Erzbergerstraße 19, 22765 Hamburg
SUMMARY:Wie läuft die Mobilitätswende in deinem Viertel?
DESCRIPTION;ALTREP="data:text/html,%3Cp%20style%3D%22font-weight%3A%20400
 %22%3EAm%20Mittwoch%2C%2020.%20September%20um%2018%20Uhr%20lade%20ich%20e
 uch%20ein%2C%20mit%20mir%20ins%20Gespr%C3%A4ch%20%C3%BCber%20EURE%20Mobil
 it%C3%A4tswende%20zu%20kommen.%20Wir%20treffen%20uns%20in%20der%20Gr%C3%B
 Cnen%20Gesch%C3%A4ftsstelle%20Altona%2C%20Erzbergerstra%C3%9Fe%2019.%20Er
 z%C3%A4hlt%20mir%2C%20was%20ihr%20toll%20findet%2C%20was%20besser%20laufe
 n%20k%C3%B6nnte%2C%20wo%20ihr%20Potenziale%20seht%20und%20was%20ihr%20euc
 h%20w%C3%BCnscht%21%20Alle%20Infos%20hier%3A%20%3Ca%20href%3D%22https%3A%
 2F%2Fwww.eva-botzenhart.de%2Fkomm-ins-gesprach-wie-lauft-die-mobilitatswe
 nde-in-deinem-viertel%2F%22%3Ehttps%3A%2F%2Fwww.eva-botzenhart.de%2Fkomm-
 ins-gesprach-wie-lauft-die-mobilitatswende-in-deinem-viertel%2F%3C%2Fa%3E
 %3C%2Fp%3E%0D%0A%3Cp%20style%3D%22font-weight%3A%20400%22%3E%3Cimg%20clas
 s%3D%22alignnone%20size-medium%20wp-image-5964%22%20src%3D%22https%3A%2F%
 2Fgruene-altona.de%2Fwp-content%2Fuploads%2Fsites%2F89%2F2023%2F09%2FMobi
 litaetswende_20.09.2023_Bild-400x480.png%22%20alt%3D%22%22%20width%3D%224
 00%22%20height%3D%22480%22%20%2F%3E%3C%2Fp%3E":Am Mittwoch\, 20. Septembe
 r um 18 Uhr lade ich euch ein\, mit mir ins Gespräch über EURE Mobilit
 ätswende zu kommen. Wir treffen uns in der Grünen Geschäftsstelle Alto
 na\, Erzbergerstraße 19. Erzählt mir\, was ihr toll findet\, was besser
  laufen könnte\, wo ihr Potenziale seht und was ihr euch wünscht! Alle 
 Infos hier: https://www.eva-botzenhart.de/komm-ins-gesprach-wie-lauft-die
 -mobilitatswende-in-deinem-viertel/
CLASS:PUBLIC
DTSTART;TZID=Europe/Berlin:20230920T180000
DTEND;TZID=Europe/Berlin:20230920T190000
DTSTAMP:20260422T161345
END:VEVENT
END:VCALENDAR