BEGIN:VCALENDAR
VERSION:2.0
PRODID:gruene-altona.de
METHOD:PUBLISH
BEGIN:VTIMEZONE
TZID:Europe/Berlin
X-LIC-LOCATION:Europe/Berlin
BEGIN:DAYLIGHT
TZOFFSETFROM:+0100
TZOFFSETTO:+0200
TZNAME:CEST
DTSTART:19700329T020000
RRULE:FREQ=YEARLY;INTERVAL=1;BYDAY=-1SU;BYMONTH=3
END:DAYLIGHT
BEGIN:STANDARD
TZOFFSETFROM:+0200
TZOFFSETTO:+0100
TZNAME:CET
DTSTART:19701025T030000
RRULE:FREQ=YEARLY;INTERVAL=1;BYDAY=-1SU;BYMONTH=10
END:STANDARD
END:VTIMEZONE
BEGIN:VEVENT
UID:b0659c163235c8004d35b15ee3581879@gruene-altona.de
URL;VALUE=URI:https://gruene-altona.de/termine/zuhoerstand-mit-lars-ander
 sen-2/
LOCATION:
SUMMARY:Zuhörstand mit Eva Botzenhart
DESCRIPTION;ALTREP="data:text/html,Euer%20Anliegen%20findet%20bei%20uns%2
 0Geh%C3%B6r%21%0D%0A%0D%0ADie%20Gr%C3%BCnen%20Altona%20h%C3%B6ren%20euch%
 20zu%21%20Dieses%20Mal%20mit%20Eva%20Botzenhart%2C%C2%A0%20Mitglieder%20d
 er%20Hamburgischen%20B%C3%BCrgerschaft.%0D%0A%0D%0AAb%2011%3A00%20Uhr%20i
 n%20der%20Ottenser%20Hauptstra%C3%9Fe%201%2C%20gg%C3%BC%20dem%20Mercado.%
 0D%0A%0D%0AKommt%20vorbei%21":Euer Anliegen findet bei uns Gehör!\n\nDie
  Grünen Altona hören euch zu! Dieses Mal mit Eva Botzenhart\,  Mitglie
 der der Hamburgischen Bürgerschaft.\n\nAb 11:00 Uhr in der Ottenser Haup
 tstraße 1\, ggü dem Mercado.\n\nKommt vorbei!
CLASS:PUBLIC
DTSTART;TZID=Europe/Berlin:20220924T110000
DTEND;TZID=Europe/Berlin:20220924T130000
DTSTAMP:20260423T113652
END:VEVENT
END:VCALENDAR